Package: pgca Version: 1.34.0 Command: rm -rf pgca.buildbin-libdir && mkdir pgca.buildbin-libdir && /Users/biocbuild/BBS/utils/build-universal.sh pgca_1.34.0.tar.gz /Library/Frameworks/R.framework/Resources/bin/R pgca.buildbin-libdir StartedAt: 2025-11-10 23:31:00 -0500 (Mon, 10 Nov 2025) EndedAt: 2025-11-10 23:31:02 -0500 (Mon, 10 Nov 2025) EllapsedTime: 2.0 seconds RetCode: 0 Status: OK PackageFile: pgca_1.34.0.tgz PackageFileSize: 144.3 KiB