Package: pfamAnalyzeR Version: 1.10.0 Command: /home/biocbuild/bbs-3.22-bioc/R/bin/R CMD INSTALL pfamAnalyzeR StartedAt: 2025-11-14 15:09:58 -0500 (Fri, 14 Nov 2025) EndedAt: 2025-11-14 15:10:03 -0500 (Fri, 14 Nov 2025) EllapsedTime: 4.7 seconds RetCode: 0 Status: OK