Package: pepXMLTab Version: 1.44.0 Command: /home/biocbuild/R/R/bin/R CMD INSTALL pepXMLTab StartedAt: 2025-11-10 21:03:09 -0000 (Mon, 10 Nov 2025) EndedAt: 2025-11-10 21:03:39 -0000 (Mon, 10 Nov 2025) EllapsedTime: 30.2 seconds RetCode: 0 Status: OK