Package: pepXMLTab Version: 1.42.0 Command: rm -rf pepXMLTab.buildbin-libdir && mkdir pepXMLTab.buildbin-libdir && E:\biocbuild\bbs-3.21-bioc\R\bin\R.exe CMD INSTALL --build --library=pepXMLTab.buildbin-libdir pepXMLTab_1.42.0.tar.gz StartedAt: 2025-08-15 09:55:50 -0400 (Fri, 15 Aug 2025) EndedAt: 2025-08-15 09:56:00 -0400 (Fri, 15 Aug 2025) EllapsedTime: 9.9 seconds RetCode: 0 Status: OK PackageFile: pepXMLTab_1.42.0.zip PackageFileSize: 203.9 KiB