Package: pepStat Version: 1.44.0 Command: /home/biocbuild/bbs-3.22-bioc/R/bin/R CMD INSTALL pepStat StartedAt: 2025-11-11 15:19:59 -0500 (Tue, 11 Nov 2025) EndedAt: 2025-11-11 15:20:15 -0500 (Tue, 11 Nov 2025) EllapsedTime: 16.0 seconds RetCode: 0 Status: OK