Package: pepStat Version: 1.44.0 Command: /home/biocbuild/bbs-3.22-bioc/R/bin/R CMD check --install=check:pepStat.install-out.txt --library=/home/biocbuild/bbs-3.22-bioc/R/site-library --timings pepStat_1.44.0.tar.gz StartedAt: 2025-11-18 07:06:34 -0500 (Tue, 18 Nov 2025) EndedAt: 2025-11-18 07:09:18 -0500 (Tue, 18 Nov 2025) EllapsedTime: 164.1 seconds RetCode: 0 Status: OK CheckDir: pepStat.Rcheck Warnings: 0