Package: pepStat Version: 1.44.0 Command: /home/biocbuild/bbs-3.22-bioc/R/bin/R CMD build --keep-empty-dirs --no-resave-data --md5 pepStat StartedAt: 2025-11-11 19:22:48 -0500 (Tue, 11 Nov 2025) EndedAt: 2025-11-11 19:23:39 -0500 (Tue, 11 Nov 2025) EllapsedTime: 51.0 seconds RetCode: 0 Status: OK PackageFile: pepStat_1.44.0.tar.gz PackageFileSize: 321.9 KiB