Package: pepStat Version: 1.44.0 Command: rm -rf pepStat.buildbin-libdir && mkdir pepStat.buildbin-libdir && /Users/biocbuild/BBS/utils/build-universal.sh pepStat_1.44.0.tar.gz /Library/Frameworks/R.framework/Resources/bin/R pepStat.buildbin-libdir StartedAt: 2025-11-04 01:55:33 -0500 (Tue, 04 Nov 2025) EndedAt: 2025-11-04 01:56:00 -0500 (Tue, 04 Nov 2025) EllapsedTime: 26.7 seconds RetCode: 0 Status: OK PackageFile: pepStat_1.44.0.tgz PackageFileSize: 732.1 KiB