Package: pepStat Version: 1.42.0 Command: /home/biocbuild/R/R/bin/R CMD build --keep-empty-dirs --no-resave-data pepStat StartedAt: 2025-10-14 03:29:12 -0000 (Tue, 14 Oct 2025) EndedAt: 2025-10-14 03:30:26 -0000 (Tue, 14 Oct 2025) EllapsedTime: 74.1 seconds RetCode: 0 Status: OK PackageFile: pepStat_1.42.0.tar.gz PackageFileSize: 314.8 KiB