Package: pepStat Version: 1.42.0 Command: /Library/Frameworks/R.framework/Resources/bin/R CMD build --keep-empty-dirs --no-resave-data pepStat StartedAt: 2025-04-21 17:15:29 -0400 (Mon, 21 Apr 2025) EndedAt: 2025-04-21 17:15:54 -0400 (Mon, 21 Apr 2025) EllapsedTime: 24.3 seconds RetCode: 0 Status: OK PackageFile: pepStat_1.42.0.tar.gz PackageFileSize: 319.5 KiB