Package: pengls Version: 1.16.0 Command: /home/biocbuild/bbs-3.22-bioc/R/bin/R CMD build --keep-empty-dirs --no-resave-data --md5 pengls StartedAt: 2025-11-11 19:22:36 -0500 (Tue, 11 Nov 2025) EndedAt: 2025-11-11 19:24:52 -0500 (Tue, 11 Nov 2025) EllapsedTime: 136.1 seconds RetCode: 0 Status: OK PackageFile: pengls_1.16.0.tar.gz PackageFileSize: 58.82 KiB