Package: pengls Version: 1.16.0 Command: /Library/Frameworks/R.framework/Resources/bin/R CMD build --keep-empty-dirs --no-resave-data pengls StartedAt: 2025-11-03 18:13:19 -0500 (Mon, 03 Nov 2025) EndedAt: 2025-11-03 18:15:00 -0500 (Mon, 03 Nov 2025) EllapsedTime: 101.7 seconds RetCode: 0 Status: OK PackageFile: pengls_1.16.0.tar.gz PackageFileSize: 62.38 KiB