Package: pengls Version: 1.14.0 Command: /home/biocbuild/R/R/bin/R CMD INSTALL pengls StartedAt: 2025-10-09 20:17:45 -0000 (Thu, 09 Oct 2025) EndedAt: 2025-10-09 20:18:35 -0000 (Thu, 09 Oct 2025) EllapsedTime: 50.1 seconds RetCode: 0 Status: OK