Package: pengls Version: 1.14.0 Command: /home/biocbuild/R/R/bin/R CMD build --keep-empty-dirs --no-resave-data pengls StartedAt: 2025-10-10 03:24:30 -0000 (Fri, 10 Oct 2025) EndedAt: 2025-10-10 03:27:21 -0000 (Fri, 10 Oct 2025) EllapsedTime: 171.1 seconds RetCode: 0 Status: OK PackageFile: pengls_1.14.0.tar.gz PackageFileSize: 55.89 KiB