Package: pengls Version: 1.14.0 Command: /Library/Frameworks/R.framework/Resources/bin/R CMD build --keep-empty-dirs --no-resave-data pengls StartedAt: 2025-04-21 17:15:25 -0400 (Mon, 21 Apr 2025) EndedAt: 2025-04-21 17:15:59 -0400 (Mon, 21 Apr 2025) EllapsedTime: 33.4 seconds RetCode: 0 Status: OK PackageFile: pengls_1.14.0.tar.gz PackageFileSize: 61.64 KiB