Package: peakPantheR Version: 1.24.0 Command: /home/biocbuild/bbs-3.22-bioc/R/bin/R CMD check --install=check:peakPantheR.install-out.txt --library=/home/biocbuild/bbs-3.22-bioc/R/site-library --timings peakPantheR_1.24.0.tar.gz StartedAt: 2025-11-15 02:52:48 -0500 (Sat, 15 Nov 2025) EndedAt: 2025-11-15 03:16:37 -0500 (Sat, 15 Nov 2025) EllapsedTime: 1429.3 seconds RetCode: 0 Status: OK CheckDir: peakPantheR.Rcheck Warnings: 0