Package: peakPantheR Version: 1.24.0 Command: /Library/Frameworks/R.framework/Resources/bin/R CMD INSTALL peakPantheR StartedAt: 2025-11-03 15:31:45 -0500 (Mon, 03 Nov 2025) EndedAt: 2025-11-03 15:32:00 -0500 (Mon, 03 Nov 2025) EllapsedTime: 15.1 seconds RetCode: 0 Status: OK