Package: peakPantheR Version: 1.22.1 Command: /home/biocbuild/R/R/bin/R CMD INSTALL peakPantheR StartedAt: 2025-10-09 20:58:24 -0000 (Thu, 09 Oct 2025) EndedAt: 2025-10-09 20:58:40 -0000 (Thu, 09 Oct 2025) EllapsedTime: 15.6 seconds RetCode: 0 Status: OK