Package: peakPantheR Version: 1.22.1 Command: /home/biocbuild/R/R/bin/R CMD build --keep-empty-dirs --no-resave-data peakPantheR StartedAt: 2025-10-10 03:24:05 -0000 (Fri, 10 Oct 2025) EndedAt: 2025-10-10 03:26:22 -0000 (Fri, 10 Oct 2025) EllapsedTime: 137.0 seconds RetCode: 0 Status: OK PackageFile: peakPantheR_1.22.1.tar.gz PackageFileSize: 4.138 MiB