Package: peakCombiner Version: 1.0.0 Command: /home/biocbuild/bbs-3.22-bioc/R/bin/R CMD check --install=check:peakCombiner.install-out.txt --library=/home/biocbuild/bbs-3.22-bioc/R/site-library --timings peakCombiner_1.0.0.tar.gz StartedAt: 2025-11-15 02:52:41 -0500 (Sat, 15 Nov 2025) EndedAt: 2025-11-15 02:54:35 -0500 (Sat, 15 Nov 2025) EllapsedTime: 114.0 seconds RetCode: 0 Status: OK CheckDir: peakCombiner.Rcheck Warnings: 0