Package: peakCombiner Version: 1.0.0 Command: /home/biocbuild/bbs-3.22-bioc/R/bin/R CMD build --keep-empty-dirs --no-resave-data --md5 peakCombiner StartedAt: 2025-11-11 19:22:00 -0500 (Tue, 11 Nov 2025) EndedAt: 2025-11-11 19:22:36 -0500 (Tue, 11 Nov 2025) EllapsedTime: 36.0 seconds RetCode: 0 Status: OK PackageFile: peakCombiner_1.0.0.tar.gz PackageFileSize: 356.4 KiB