Package: peakCombiner Version: 1.0.0 Command: /Library/Frameworks/R.framework/Resources/bin/R CMD build --keep-empty-dirs --no-resave-data peakCombiner StartedAt: 2025-11-03 18:12:40 -0500 (Mon, 03 Nov 2025) EndedAt: 2025-11-03 18:13:28 -0500 (Mon, 03 Nov 2025) EllapsedTime: 47.9 seconds RetCode: 0 Status: OK PackageFile: peakCombiner_1.0.0.tar.gz PackageFileSize: 367.9 KiB