Package: peakCombiner Version: 1.0.0 Command: rm -rf peakCombiner.buildbin-libdir && mkdir peakCombiner.buildbin-libdir && /Users/biocbuild/BBS/utils/build-universal.sh peakCombiner_1.0.0.tar.gz /Library/Frameworks/R.framework/Resources/bin/R peakCombiner.buildbin-libdir StartedAt: 2025-11-04 01:55:24 -0500 (Tue, 04 Nov 2025) EndedAt: 2025-11-04 01:55:32 -0500 (Tue, 04 Nov 2025) EllapsedTime: 8.1 seconds RetCode: 0 Status: OK PackageFile: peakCombiner_1.0.0.tgz PackageFileSize: 450.8 KiB