Package: peakCombiner Version: 1.0.0 Command: /Library/Frameworks/R.framework/Resources/bin/R CMD INSTALL peakCombiner StartedAt: 2025-11-10 15:10:28 -0500 (Mon, 10 Nov 2025) EndedAt: 2025-11-10 15:10:30 -0500 (Mon, 10 Nov 2025) EllapsedTime: 2.3 seconds RetCode: 0 Status: OK