Package: peakCombiner Version: 1.0.0 Command: /Library/Frameworks/R.framework/Resources/bin/R CMD build --keep-empty-dirs --no-resave-data peakCombiner StartedAt: 2025-11-10 17:20:05 -0500 (Mon, 10 Nov 2025) EndedAt: 2025-11-10 17:20:20 -0500 (Mon, 10 Nov 2025) EllapsedTime: 15.2 seconds RetCode: 0 Status: OK PackageFile: peakCombiner_1.0.0.tar.gz PackageFileSize: 368.2 KiB