Package: peakCombiner Version: 1.0.0 Command: rm -rf peakCombiner.buildbin-libdir && mkdir peakCombiner.buildbin-libdir && /Users/biocbuild/BBS/utils/build-universal.sh peakCombiner_1.0.0.tar.gz /Library/Frameworks/R.framework/Resources/bin/R peakCombiner.buildbin-libdir StartedAt: 2025-11-10 23:30:53 -0500 (Mon, 10 Nov 2025) EndedAt: 2025-11-10 23:30:55 -0500 (Mon, 10 Nov 2025) EllapsedTime: 2.1 seconds RetCode: 0 Status: OK PackageFile: peakCombiner_1.0.0.tgz PackageFileSize: 453.3 KiB