Package: peakCombiner Version: 1.0.0 Maintainer: Markus Muckenhuber MaintainerEmail: markusmuckenhuber at gmx.at git_url: https://git.bioconductor.org/packages/peakCombiner git_branch: RELEASE_3_22 git_last_commit: 152407d git_last_commit_date: 2025-10-29 11:38:29 -0500 (Wed, 29 Oct 2025)