Package: pdInfoBuilder Version: 1.74.0 Command: /home/biocbuild/bbs-3.22-bioc/R/bin/R CMD build --keep-empty-dirs --no-resave-data --md5 pdInfoBuilder StartedAt: 2025-11-11 19:21:55 -0500 (Tue, 11 Nov 2025) EndedAt: 2025-11-11 19:22:27 -0500 (Tue, 11 Nov 2025) EllapsedTime: 32.0 seconds RetCode: 0 Status: OK PackageFile: pdInfoBuilder_1.74.0.tar.gz PackageFileSize: 350.3 KiB