Package: pdInfoBuilder Version: 1.72.0 Command: /home/biocbuild/R/R/bin/R CMD INSTALL pdInfoBuilder StartedAt: 2025-10-13 20:33:21 -0000 (Mon, 13 Oct 2025) EndedAt: 2025-10-13 20:34:07 -0000 (Mon, 13 Oct 2025) EllapsedTime: 45.5 seconds RetCode: 0 Status: OK