Package: pdInfoBuilder Version: 1.72.0 Command: /home/biocbuild/R/R/bin/R CMD build --keep-empty-dirs --no-resave-data pdInfoBuilder StartedAt: 2025-10-14 03:27:31 -0000 (Tue, 14 Oct 2025) EndedAt: 2025-10-14 03:28:18 -0000 (Tue, 14 Oct 2025) EllapsedTime: 47.1 seconds RetCode: 0 Status: OK PackageFile: pdInfoBuilder_1.72.0.tar.gz PackageFileSize: 348.1 KiB