Package: pcaMethods Version: 2.2.0 Command: /home/biocbuild/R/R/bin/R CMD check --install=check:pcaMethods.install-out.txt --library=/home/biocbuild/R/R/site-library --no-vignettes --timings pcaMethods_2.2.0.tar.gz StartedAt: 2025-11-14 12:45:23 -0000 (Fri, 14 Nov 2025) EndedAt: 2025-11-14 12:48:12 -0000 (Fri, 14 Nov 2025) EllapsedTime: 168.2 seconds RetCode: 0 Status: OK CheckDir: pcaMethods.Rcheck Warnings: 0