Package: pcaMethods Version: 2.2.0 Command: /home/biocbuild/bbs-3.22-bioc/R/bin/R CMD INSTALL pcaMethods StartedAt: 2025-11-11 15:16:55 -0500 (Tue, 11 Nov 2025) EndedAt: 2025-11-11 15:17:09 -0500 (Tue, 11 Nov 2025) EllapsedTime: 13.4 seconds RetCode: 0 Status: OK