Package: pcaMethods Version: 2.0.0 Command: rm -rf pcaMethods.buildbin-libdir && mkdir pcaMethods.buildbin-libdir && /Users/biocbuild/BBS/utils/build-universal.sh pcaMethods_2.0.0.tar.gz /Library/Frameworks/R.framework/Resources/bin/R pcaMethods.buildbin-libdir StartedAt: 2025-10-14 14:21:14 -0400 (Tue, 14 Oct 2025) EndedAt: 2025-10-14 14:22:01 -0400 (Tue, 14 Oct 2025) EllapsedTime: 47.7 seconds RetCode: 0 Status: OK PackageFile: pcaMethods_2.0.0.tgz PackageFileSize: 1.437 MiB