Package: pcaMethods Version: 2.2.0 Command: /Library/Frameworks/R.framework/Resources/bin/R CMD INSTALL pcaMethods StartedAt: 2025-11-03 15:19:06 -0500 (Mon, 03 Nov 2025) EndedAt: 2025-11-03 15:19:25 -0500 (Mon, 03 Nov 2025) EllapsedTime: 18.7 seconds RetCode: 0 Status: OK