Package: pcaMethods Version: 2.2.0 Command: /Library/Frameworks/R.framework/Resources/bin/R CMD build --keep-empty-dirs --no-resave-data pcaMethods StartedAt: 2025-11-03 18:11:22 -0500 (Mon, 03 Nov 2025) EndedAt: 2025-11-03 18:14:20 -0500 (Mon, 03 Nov 2025) EllapsedTime: 178.7 seconds RetCode: 0 Status: OK PackageFile: pcaMethods_2.2.0.tar.gz PackageFileSize: 1016 KiB