Package: pcaMethods Version: 2.2.0 Command: rm -rf pcaMethods.buildbin-libdir && mkdir pcaMethods.buildbin-libdir && /Users/biocbuild/BBS/utils/build-universal.sh pcaMethods_2.2.0.tar.gz /Library/Frameworks/R.framework/Resources/bin/R pcaMethods.buildbin-libdir StartedAt: 2025-11-04 01:55:21 -0500 (Tue, 04 Nov 2025) EndedAt: 2025-11-04 01:55:43 -0500 (Tue, 04 Nov 2025) EllapsedTime: 22.0 seconds RetCode: 0 Status: OK PackageFile: pcaMethods_2.2.0.tgz PackageFileSize: 1.437 MiB