Package: pcaMethods Version: 2.2.0 Command: /Library/Frameworks/R.framework/Resources/bin/R CMD INSTALL pcaMethods StartedAt: 2025-11-10 15:06:56 -0500 (Mon, 10 Nov 2025) EndedAt: 2025-11-10 15:07:01 -0500 (Mon, 10 Nov 2025) EllapsedTime: 4.6 seconds RetCode: 0 Status: OK