Package: pcaExplorer Version: 3.4.0 Command: /home/biocbuild/R/R/bin/R CMD INSTALL pcaExplorer StartedAt: 2025-11-13 22:02:32 -0000 (Thu, 13 Nov 2025) EndedAt: 2025-11-13 22:03:44 -0000 (Thu, 13 Nov 2025) EllapsedTime: 71.7 seconds RetCode: 0 Status: OK