Package: pcaExplorer Version: 3.4.0 Command: /home/biocbuild/R/R/bin/R CMD build --keep-empty-dirs --no-resave-data pcaExplorer StartedAt: 2025-11-14 04:04:41 -0000 (Fri, 14 Nov 2025) EndedAt: 2025-11-14 04:07:32 -0000 (Fri, 14 Nov 2025) EllapsedTime: 171.1 seconds RetCode: 0 Status: OK PackageFile: pcaExplorer_3.4.0.tar.gz PackageFileSize: 9.718 MiB