Package: pcaExplorer Version: 3.4.0 Command: /home/biocbuild/bbs-3.22-bioc/R/bin/R CMD INSTALL pcaExplorer StartedAt: 2025-11-11 15:54:01 -0500 (Tue, 11 Nov 2025) EndedAt: 2025-11-11 15:54:55 -0500 (Tue, 11 Nov 2025) EllapsedTime: 54.5 seconds RetCode: 0 Status: OK