Package: pcaExplorer Version: 3.4.0 Command: /home/biocbuild/bbs-3.22-bioc/R/bin/R CMD build --keep-empty-dirs --no-resave-data --md5 pcaExplorer StartedAt: 2025-11-11 19:20:42 -0500 (Tue, 11 Nov 2025) EndedAt: 2025-11-11 19:22:47 -0500 (Tue, 11 Nov 2025) EllapsedTime: 125.1 seconds RetCode: 0 Status: OK PackageFile: pcaExplorer_3.4.0.tar.gz PackageFileSize: 10.73 MiB