Package: pcaExplorer Version: 3.2.0 Command: /Library/Frameworks/R.framework/Resources/bin/R CMD INSTALL pcaExplorer StartedAt: 2025-10-13 16:35:33 -0400 (Mon, 13 Oct 2025) EndedAt: 2025-10-13 16:37:27 -0400 (Mon, 13 Oct 2025) EllapsedTime: 113.9 seconds RetCode: 0 Status: OK