Package: pcaExplorer Version: 3.2.0 Command: /Library/Frameworks/R.framework/Resources/bin/R CMD build --keep-empty-dirs --no-resave-data pcaExplorer StartedAt: 2025-10-13 21:27:10 -0400 (Mon, 13 Oct 2025) EndedAt: 2025-10-13 21:32:10 -0400 (Mon, 13 Oct 2025) EllapsedTime: 299.7 seconds RetCode: 0 Status: OK PackageFile: pcaExplorer_3.2.0.tar.gz PackageFileSize: 10.74 MiB