Package: pcaExplorer Version: 3.2.0 Command: rm -rf pcaExplorer.buildbin-libdir && mkdir pcaExplorer.buildbin-libdir && /Users/biocbuild/BBS/utils/build-universal.sh pcaExplorer_3.2.0.tar.gz /Library/Frameworks/R.framework/Resources/bin/R pcaExplorer.buildbin-libdir StartedAt: 2025-10-14 14:21:14 -0400 (Tue, 14 Oct 2025) EndedAt: 2025-10-14 14:23:55 -0400 (Tue, 14 Oct 2025) EllapsedTime: 161.4 seconds RetCode: 0 Status: OK PackageFile: pcaExplorer_3.2.0.tgz PackageFileSize: 8.347 MiB