Package: paxtoolsr Version: 1.42.0 Command: /Library/Frameworks/R.framework/Resources/bin/R CMD INSTALL paxtoolsr StartedAt: 2025-10-09 15:11:31 -0400 (Thu, 09 Oct 2025) EndedAt: 2025-10-09 15:12:00 -0400 (Thu, 09 Oct 2025) EllapsedTime: 28.5 seconds RetCode: 0 Status: OK