Package: paxtoolsr Version: 1.42.0 Command: /home/biocbuild/R/R/bin/R CMD INSTALL paxtoolsr StartedAt: 2025-09-25 20:19:14 -0000 (Thu, 25 Sep 2025) EndedAt: 2025-09-25 20:19:36 -0000 (Thu, 25 Sep 2025) EllapsedTime: 22.2 seconds RetCode: 0 Status: OK