Package: pathwayPCA Version: 1.26.0 Command: /home/biocbuild/R/R/bin/R CMD INSTALL pathwayPCA StartedAt: 2025-11-13 21:07:07 -0000 (Thu, 13 Nov 2025) EndedAt: 2025-11-13 21:07:29 -0000 (Thu, 13 Nov 2025) EllapsedTime: 21.2 seconds RetCode: 0 Status: OK