Package: pathwayPCA Version: 1.26.0 Command: /home/biocbuild/R/R/bin/R CMD build --keep-empty-dirs --no-resave-data pathwayPCA StartedAt: 2025-11-14 04:04:31 -0000 (Fri, 14 Nov 2025) EndedAt: 2025-11-14 04:07:50 -0000 (Fri, 14 Nov 2025) EllapsedTime: 199.1 seconds RetCode: 0 Status: OK PackageFile: pathwayPCA_1.26.0.tar.gz PackageFileSize: 2.918 MiB