Package: pathwayPCA Version: 1.26.0 Command: /home/biocbuild/bbs-3.22-bioc/R/bin/R CMD check --install=check:pathwayPCA.install-out.txt --library=/home/biocbuild/bbs-3.22-bioc/R/site-library --timings pathwayPCA_1.26.0.tar.gz StartedAt: 2025-11-14 02:38:44 -0500 (Fri, 14 Nov 2025) EndedAt: 2025-11-14 02:43:55 -0500 (Fri, 14 Nov 2025) EllapsedTime: 311.4 seconds RetCode: 0 Status: OK CheckDir: pathwayPCA.Rcheck Warnings: 0