Package: pathwayPCA Version: 1.24.0 Command: /home/biocbuild/bbs-3.21-bioc/R/bin/R CMD INSTALL pathwayPCA StartedAt: 2025-10-12 15:05:11 -0400 (Sun, 12 Oct 2025) EndedAt: 2025-10-12 15:05:19 -0400 (Sun, 12 Oct 2025) EllapsedTime: 8.1 seconds RetCode: 0 Status: OK